Workbook
Name Camp: 'Validation List'!$E$2:$E$5
Name Equipment_Needed: 'Validation List'!$D$2:$D$5
Name Leader_in_Charge: 'Validation List'!$C$2
Name LIC: 'Validation List'!$B$2:$B$3
Name Organised_by: 'Validation List'!$A$2:$A$9
Name Planning: 'Validation List'!$F$2:$F$6
Name Reviewed: 'Validation List'!$G$2:$G$7
Name Select: 'Validation List'!$A$4:$A$9
Name Status: 'Validation List'!$H$3:$H$7
Name Store: 'Validation List'!$J$2:$J$9
Name Y_N: 'Validation List'!$I$2:$I$3

Sheet MAIN
B2: ACTIVITY PLANNING
A4: Organised by : | B4: Select | D4: Leader in Charge : | F4: Select | T4: 97.5 width
T5: 100 heading
A6: Activity Name : | B6: ACTIVITY | T6: Main Title - 22
T7: Heading - 14
A8: Start Date : | D8: Start Time : | T8: Main Text - 12
A9: Start Place : | T9: Heading Height -24
A10: End Date : | D10: End Time :
A11: End Place :
A12: Activity Fee : | D12: Includes :
A13: [per person]
A14: Main Activity Location :
A16: General Activity Description :
A18: Scouting Aims: | B18: Social | D18: achieved by:
A19: [mark with 'X'] | B19: Physical | D19: achieved by:
B20: Intellectual | D20: achieved by:
B21: Character | D21: achieved by:
B22: Emotional | D22: achieved by:
B23: Spiritual | D23: achieved by:
A25: Member Training undertaken : | B25: Select
A27: Equipment Needed : | B27: Select
A29: Camping : | B29: Select
A33: Attached Planning Sheets | E33: To Do Actions
B34: Attendance | C34: Select | G34: Information Flier | H34: Select
B35: Programme | C35: Select | G35: Buy Food/Drink | H35: Select
B36: Equipment Request | C36: Select | G36: Prepare Equipment | H36: Select
B37: Menu & Quantities | C37: Select | G37: Book Transport | H37: Select
B38: Accounts | C38: Select | G38: Book Campsite | H38: Select
B39: Route Card | C39: Select | G39: IHQ Form 6 | H39: Select

Sheet ATTENDANCE
D3: =MAIN!B6 -> ACTIVITY | I3: Attendance
A5: Name & Surname | E5: Attending | F5: Attended | H5: Fee Paid | I5: Notes
B34: Totals | D34: Y
D35: N | F35: Collected

Sheet PROGRAMME
D3: =MAIN!B6 -> ACTIVITY | I3: Progamme
C5: Description | G5: LiC | H5: Notes
A6: 0.33333333
A7: 0.35416667
A8: 0.375
A9: 0.39583333
A10: 0.41666667
A11: 0.4375
A12: 0.45833333
A13: 0.47916667
A14: 0.5
A15: 0.52083333
A16: 0.54166667
A17: 0.5625
... A31: 0.85416667
A32: 0.875 | K32: Jackson Pipe band
A33: 0.89583333 | K33: Stunt man - KBP
C35: Description | G35: LiC | H35: Notes
A36: 0.27083333 | K36: Activity Ideas
A37: 0.29166667 | K37: Ta Mena / ager foundation - Day 2 - 4 hr
A38: 0.3125 | K38: Ggantija - Day 2 2 hr
A39: 0.34375 | K39: Beach - Day 2
A40: 0.35416667 | K40: Valletta treasure hunt - Day 1 - 4hr
A41: 0.375 | K41: Mdina Treasure hunt - Day 3 - 2 hr
A42: 0.39583333 | K42: Roman Baths Excavation - day 3 - 2hr
A43: 0.41666667 | K43: War Museum - Day 1 - 1hr
A44: 0.4375 | K44: Hike - Day 4
A45: 0.45833333 | K45: Patrol cooking - day 1 - Supper
A46: 0.47916667 | K46: MCC Kights of Malta - Day 1 - 2hr
A47: 0.5
A48: 0.52083333 | K48: Day 2 in gozo
A49: 0.54166667 | K49: BBQ day 4
A50: 0.5625 | K50: Openfire cooking day 3 lunch
A51: 0.58333333 | K51: Bivvies Day 3
A52: 0.60416667 | K52: Knife axe saw and Hatchet
A53: 0.625 | K53: Testing and Badges - 4 hours
A54: 0.64583333 | K54: Beach time Day 3
A55: 0.66666667 | K55: Beach time day 4
A56: 0.6875 | K56: Backwoods cooking - Day 4
A57: 0.70833333 | K57: Medevac - Day 4
...

Sheet ACCOUNTS
C2: BUDGET & ACCOUNTS
A4: Organised by : | C4: =MAIN!B4 -> Select | E4: Leader in Charge : | G4: =MAIN!F4 -> Select
A6: Activity Name : | C6: =MAIN!B6 -> ACTIVITY
A8: Start Date : | C8: =MAIN!B8 -> 0 | E8: Start Time : | F8: =MAIN!E8 -> 0 | I8: Expected Members : | J8: 5
A9: End Date : | C9: =MAIN!B10 -> 0 | E9: End Time : | F9: 0.625 | I9: Expected Leaders : | J9: 0
A11: PROJECTED BUDGET
A12: Bulk General Costs | E12: Bulk Costs | H12: Qty | I12: Total
C13: Food & Water | E13: 0 | H13: 0 | I13: =E13*H13 -> 0
C14: Coach Travelling | E14: 0 | H14: 0 | I14: =E14*H14 -> 0
C15: Campsite | E15: 0 | H15: 5 | I15: =E15*H15 -> 0
C16: Water & Electricity | E16: 0 | H16: 0 | I16: =E16*H16 -> 0
C17: Other Budgeted Expense 1 | E17: 0 | H17: 0 | I17: =E17*H17 -> 0
C18: Other Budgeted Expense 2 | E18: 0 | H18: 0 | I18: =E18*H18 -> 0
C19: Other Budgeted Expense 3 | E19: 0 | H19: 0 | I19: =E19*H19 -> 0
C20: Other Budgeted Expense 4 | E20: 0 | H20: 0 | I20: =E20*H20 -> 0
C21: Other Budgeted Expense 5 | E21: 0 | H21: 0 | I21: =E21*H21 -> 0
C22: Other Budgeted Expense 6 | E22: 0 | H22: 0 | I22: =E22*H22 -> 0
A23: Per Person Costs
C24: Per person Cost 1 | I24: =E24*(J$8+J$9) -> 0
C25: Per person Cost 2 | I25: =E25*(J$8+J$9) -> 0
C26: Per person Cost 3 | I26: =E26*(J$8+J$9) -> 0
C27: Per person Cost 4 | I27: =E27*(J$8+J$9) -> 0
C28: Campsite per person | E28: 0 | I28: =E28*(J$8+J$9) -> 0
C29: SUB TOTAL (Before Contingency) | E29: =SUM(I13:I28) -> 0
C30: Contingency | D30: 0.05 | E30: =E29*D30 -> 0
C31: TOTAL (After Contingency) | E31: =SUM(E29:G30) -> 0
C32: Actual Collection | E32: =#REF! -> #REF!
C33: Suggested Activity Fee pp. | E33: =E31/J8 -> 0
C34: Confirmed Activity Fee pp. | E34: 0
B35: total income | E35: =E34*J8 -> 0
B36: surplus | E36: =E35-E34:G34 -> 0
A38: ACCOUNTS (Actuals)
A39: Activity Income
B40: Date | C40: Description | F40: Rec. Ref. | H40: Amount | I40: Balance
H41: 0 | I41: =H41 -> 0
H42: 0 | I42: =SUM(I41+H42) -> 0
H43: 0 | I43: =SUM(I42+H43) -> 0
H44: 0 | I44: =SUM(I43+H44) -> 0
H45: 0 | I45: =SUM(I44+H45) -> 0
H46: 0 | I46: =SUM(I45+H46) -> 0
...

Sheet MENU & QUANTITIES
C3: =MAIN!B6 -> ACTIVITY | F3: Menu
B5: Food Description | F5: Prepared By | G5: Pax
A6: BREAKFAST
A7: LUNCH
A8: TEA/SNACK
A9: DINNER
B11: Food Description | F11: Prepared By | G11: Pax
A12: BREAKFAST
A13: LUNCH
A14: TEA/SNACK
A15: DINNER
B17: Food Description | F17: Prepared By | G17: Pax
A18: BREAKFAST
A19: LUNCH
A20: TEA/SNACK
A21: DINNER
B23: Food Description | F23: Prepared By | G23: Pax
A24: BREAKFAST
A25: LUNCH
A26: TEA/SNACK
A27: DINNER
B29: Food Description | F29: Prepared By | G29: Pax
A30: BREAKFAST
A31: LUNCH
A32: TEA/SNACK
A33: DINNER
B35: Food Description | F35: Prepared By | G35: Pax
A36: BREAKFAST
A37: LUNCH
A38: TEA/SNACK
A39: DINNER
A40: Food Budget :
A43: Ingredients | B43: Amount | C43: Packaging | E43: Amount | F43: unit price | G43: Total cost
E45: 1 | F45: 0 | G45: =B45*F45/1000 -> 0
E46: 1 | F46: 0 | G46: =B46*F46/E46 -> 0
E47: 1 | F47: 0 | G47: =B47*F47/E47 -> 0
E48: 1 | F48: 0 | G48: =B48*F48/E48 -> 0
E49: 1 | F49: 0 | G49: =B49*F49/E49 -> 0
E50: 1 | F50: 0 | G50: =B50*F50/E50 -> 0
E51: 1 | F51: 0 | G51: =B51*F51/E51 -> 0
...

Sheet ROUTE CARD
A1: ROUTE CARD
H2: Activity Name : | J2: =MAIN!B6 -> ACTIVITY
D3: Route Card | H3: Organised by : | J3: =MAIN!B4 -> Select
H4: Leader in Charge : | J4: =MAIN!F4 -> Select
A6: Day of venture | C6: 1 | D6: of | E6: 1 | G6: Walking Speed in KM/h | J6: 4 | K6: Time added (in seconds) per 10m of height climbed | O6: 60
A7: Date: | B7: 42343 | C7: Direction or rough bearing of leg | D7: Distance in km | E7: Time estimated | F7: Height climbed metres | G7: Extra time estimated for height | H7: Time for Stops, Meals, (h:mm) | I7: Total time for Leg | J7: Time at End of Leg | K7: ROUTE INFORMATION | O7: Escape in Emergency to:
A8: Start
A9: MR | H9: Start Time | J9: 0
A10: TO | E10: =D10/$J$6/24 -> 0 | G10: =((F10/10)*$O$6)/86400 -> 0 | I10: =SUM(E10+G10+H10) -> 0 | J10: =SUM(J9+I10) -> 0
A11: MR
A12: TO | E12: =D12/$J$6/24 -> 0 | G12: =((F12/10)*$O$6)/86400 -> 0 | I12: =SUM(E12+G12+H12) -> 0 | J12: =SUM(J10+I12) -> 0
A13: MR
A14: TO | E14: =D14/$J$6/24 -> 0 | G14: =((F14/10)*$O$6)/86400 -> 0 | I14: =SUM(E14+G14+H14) -> 0 | J14: =SUM(J12+I14) -> 0
A15: MR
A16: TO | E16: =D16/$J$6/24 -> 0 | G16: =((F16/10)*$O$6)/86400 -> 0 | I16: =SUM(E16+G16+H16) -> 0 | J16: =SUM(J14+I16) -> 0
A17: MR
A18: TO | E18: =D18/$J$6/24 -> 0 | G18: =((F18/10)*$O$6)/86400 -> 0 | I18: =SUM(E18+G18+H18) -> 0 | J18: =SUM(J16+I18) -> 0
A19: MR
A20: TO | E20: =D20/$J$6/24 -> 0 | G20: =((F20/10)*$O$6)/86400 -> 0 | I20: =SUM(E20+G20+H20) -> 0 | J20: =SUM(J18+I20) -> 0
A21: MR
A22: TO | E22: =D22/$J$6/24 -> 0 | G22: =((F22/10)*$O$6)/86400 -> 0 | I22: =SUM(E22+G22+H22) -> 0 | J22: =SUM(J20+I22) -> 0
A23: MR
A24: TO | E24: =D24/$J$6/24 -> 0 | G24: =((F24/10)*$O$6)/86400 -> 0 | I24: =SUM(E24+G24+H24) -> 0 | J24: =SUM(J22+I24) -> 0
A25: MR
A26: TO | E26: =D26/$J$6/24 -> 0 | G26: =((F26/10)*$O$6)/86400 -> 0 | I26: =SUM(E26+G26+H26) -> 0 | J26: =SUM(J24+I26) -> 0
A27: MR
A28: TOTALS FOR DAY | D28: =SUM(D10:D27) -> 0 | E28: =SUM(E10:E27) -> 0 | F28: =SUM(F10:F27) -> 0 | G28: =SUM(G10:G27) -> 0 | H28: =SUM(H10:H27) -> 0 | I28: =SUM(I10:I27) -> 0 | J28: =SUM(J26) -> 0 | K28: NOTES1 Start a new Route Card for each day. 2 Escape Route - insert only those places to which an escape may be attempted from a hazard or emergency. 3 Time is added on for height climbed. No allowance for descent. If you go up 40m down 20m and then up another 30m your height climbed should be 70m
A29: LiCs of Route Supervision
A32: Emergency Phone Numbers
A34: Route Prepared by:

Sheet Pendings
A1: Task | B1: Due Date | C1: LIC | D1: Remarks | E1: Status

Sheet Validation List
A1: Organised by | B1: LIC | C1: Leader in Charge | D1: Equipment Needed | E1: Camp | F1: Planning | G1: Reviewed | H1: Status | I1: Y/N | J1: Store | K1: Training
A2: Select | B2: Select | C2: Select | D2: Select | E2: Select | F2: Select | G2: Select | H2: Select | I2: Yes | J2: Lidl | K2: Select
A3: Beaver Colony | B3: Group Scout Leader | D3: Yes & Equipment Request has been submitted to QM | E3: Yes & IHQ Form 6 has been completed and sent to GSL/DC | F3: Pending | H3: Pending | I3: No | J3: Smart | K3: Getting Started
A4: Cub Pack | B4: Asst. Group Scout Leader | D4: Yes but Equipment Request still needs to be sent to QM | E4: Yes but IHQ Form 6 has not been sent to GSL/DC | F4: Not Needed | H4: In progress | I4: N/A | J4: Pavi | K4: Pathfinder
A5: Scout Troop | B5: Rover Crew Coordinator | D5: No | E5: No | F5: In Progress | H5: Done | J5: Miracle foods | K5: Basic
A6: Venture Unit | B6: Asst. Rover Crew Coordinator | E6: Yes, IHQ form 6 not needed | F6: DONE | H6: Awaiting reply | J6: Greens | K6: Advanced
A7: Rover Crew | B7: Venture Scout Leader | H7: Cancelled | J7: Pama
A8: Group | B8: Asst. Venture Scout Leader | J8: Snow White
A9: Council | B9: Scout Leader
B10: Asst. Scout Leader
B11: Cub Scout Leader
B12: Asst. Cub Scout Leader

Sheet Risk Assessment
A2: =MAIN!B6 -> ACTIVITY | G2: DATE: 25/06/17
A5: Who might be Harmed and How? | B5: Control Measures in place | C5: Probability (1,2,3,4,5) | D5: Severity (1,2,3,4,5) | E5: Risk Factor | F5: Further Recommendations | G5: By Whom | H5: By When | I5: Done
